BEGIN:VCALENDAR
VERSION:2.0
PRODID:-//eEvents - A Part Of eVyapar - ECPv6.15.18//NONSGML v1.0//EN
CALSCALE:GREGORIAN
METHOD:PUBLISH
X-WR-CALNAME:eEvents - A Part Of eVyapar
X-ORIGINAL-URL:https://events.evyapar.ca
X-WR-CALDESC:Events for eEvents - A Part Of eVyapar
REFRESH-INTERVAL;VALUE=DURATION:PT1H
X-Robots-Tag:noindex
X-PUBLISHED-TTL:PT1H
BEGIN:VTIMEZONE
TZID:America/Toronto
BEGIN:DAYLIGHT
TZOFFSETFROM:-0500
TZOFFSETTO:-0400
TZNAME:EDT
DTSTART:20240310T070000
END:DAYLIGHT
BEGIN:STANDARD
TZOFFSETFROM:-0400
TZOFFSETTO:-0500
TZNAME:EST
DTSTART:20241103T060000
END:STANDARD
BEGIN:DAYLIGHT
TZOFFSETFROM:-0500
TZOFFSETTO:-0400
TZNAME:EDT
DTSTART:20250309T070000
END:DAYLIGHT
BEGIN:STANDARD
TZOFFSETFROM:-0400
TZOFFSETTO:-0500
TZNAME:EST
DTSTART:20251102T060000
END:STANDARD
BEGIN:DAYLIGHT
TZOFFSETFROM:-0500
TZOFFSETTO:-0400
TZNAME:EDT
DTSTART:20260308T070000
END:DAYLIGHT
BEGIN:STANDARD
TZOFFSETFROM:-0400
TZOFFSETTO:-0500
TZNAME:EST
DTSTART:20261101T060000
END:STANDARD
END:VTIMEZONE
BEGIN:VEVENT
DTSTART;TZID=America/Toronto:20250517T170000
DTEND;TZID=America/Toronto:20250517T230000
DTSTAMP:20260421T110434
CREATED:20250427T230212Z
LAST-MODIFIED:20250518T150923Z
UID:457-1747501200-1747522800@events.evyapar.ca
SUMMARY:Fireworks & Family Fun Night
DESCRIPTION:WHAT’S HAPPENING?\nGuests will experience exciting live horse racing\, enjoy food and drink specials plus some family friendly activities\, and Mohawk Park’s very own special light show at 9:30 p.m.\, all followed by a stunning fireworks spectacle at 10 p.m. \nNote: The FREE fireworks show is weather dependent. Please follow a WoodbineSB social channel for updates. \nFAMILY FUN\n\nFace Paintings\nMagician\nBalloon twisters\nMeeting a standardbred horse\nA craft and colouring station\n\nDINING OPTIONS\nThere will be various dining options available\, including reservations at Harvest Kitchen and Trackside Bar & Patio.
URL:https://events.evyapar.ca/event/fireworks-family-fun-nigh/
LOCATION:Milton\, 9430 Guelph Line\, Milton\, ON\, L0P\, Canada
CATEGORIES:Entertainment
ATTACH;FMTTYPE=image/jpeg:https://events.evyapar.ca/wp-content/uploads/2025/04/20250517-Fireworks-Family-Fun-Night-JPEG.jpeg
END:VEVENT
END:VCALENDAR