BEGIN:VCALENDAR
VERSION:2.0
PRODID:-//eEvents - A Part Of eVyapar - ECPv6.15.18//NONSGML v1.0//EN
CALSCALE:GREGORIAN
METHOD:PUBLISH
X-ORIGINAL-URL:https://events.evyapar.ca
X-WR-CALDESC:Events for eEvents - A Part Of eVyapar
REFRESH-INTERVAL;VALUE=DURATION:PT1H
X-Robots-Tag:noindex
X-PUBLISHED-TTL:PT1H
BEGIN:VTIMEZONE
TZID:America/Toronto
BEGIN:DAYLIGHT
TZOFFSETFROM:-0500
TZOFFSETTO:-0400
TZNAME:EDT
DTSTART:20240310T070000
END:DAYLIGHT
BEGIN:STANDARD
TZOFFSETFROM:-0400
TZOFFSETTO:-0500
TZNAME:EST
DTSTART:20241103T060000
END:STANDARD
BEGIN:DAYLIGHT
TZOFFSETFROM:-0500
TZOFFSETTO:-0400
TZNAME:EDT
DTSTART:20250309T070000
END:DAYLIGHT
BEGIN:STANDARD
TZOFFSETFROM:-0400
TZOFFSETTO:-0500
TZNAME:EST
DTSTART:20251102T060000
END:STANDARD
BEGIN:DAYLIGHT
TZOFFSETFROM:-0500
TZOFFSETTO:-0400
TZNAME:EDT
DTSTART:20260308T070000
END:DAYLIGHT
BEGIN:STANDARD
TZOFFSETFROM:-0400
TZOFFSETTO:-0500
TZNAME:EST
DTSTART:20261101T060000
END:STANDARD
END:VTIMEZONE
BEGIN:VEVENT
DTSTART;TZID=America/Toronto:20250607T090000
DTEND;TZID=America/Toronto:20250607T230000
DTSTAMP:20260421T235450
CREATED:20250422T212914Z
LAST-MODIFIED:20250428T153900Z
UID:365-1749286800-1749337200@events.evyapar.ca
SUMMARY:Drawing at The Cambridge Sculpture Garden
DESCRIPTION:Drawing at The Cambridge Sculpture Garden \n\nAs part of the Cambridge Sculpture Garden’s 25th anniversary celebrations\, join us for a drawing class in the garden. \nAbout this Event \nWelcome to Drawing at The Cambridge Sculpture Garden! Join us for free workshop led by local artist and Sculpture Garden co-chair Judy Major Girardin. All materials are generously provided by Phildon pens\, so just show up and unleash your artistic side in an serene and picturesque setting. See you there! \n  \nAlso check out other Arts events in Cambridge\, Fine Arts events in Cambridge\, Workshops in Cambridge.
URL:https://events.evyapar.ca/event/drawing-at-the-cambridge-sculpture-garden/
LOCATION:Cambridge\, 53 Grand Avenue South\, Cambridge\, ON\, Canada
CATEGORIES:Education
END:VEVENT
END:VCALENDAR