BEGIN:VCALENDAR
VERSION:2.0
PRODID:-//eEvents - A Part Of eVyapar - ECPv6.15.18//NONSGML v1.0//EN
CALSCALE:GREGORIAN
METHOD:PUBLISH
X-ORIGINAL-URL:https://events.evyapar.ca
X-WR-CALDESC:Events for eEvents - A Part Of eVyapar
REFRESH-INTERVAL;VALUE=DURATION:PT1H
X-Robots-Tag:noindex
X-PUBLISHED-TTL:PT1H
BEGIN:VTIMEZONE
TZID:America/Toronto
BEGIN:DAYLIGHT
TZOFFSETFROM:-0500
TZOFFSETTO:-0400
TZNAME:EDT
DTSTART:20240310T070000
END:DAYLIGHT
BEGIN:STANDARD
TZOFFSETFROM:-0400
TZOFFSETTO:-0500
TZNAME:EST
DTSTART:20241103T060000
END:STANDARD
BEGIN:DAYLIGHT
TZOFFSETFROM:-0500
TZOFFSETTO:-0400
TZNAME:EDT
DTSTART:20250309T070000
END:DAYLIGHT
BEGIN:STANDARD
TZOFFSETFROM:-0400
TZOFFSETTO:-0500
TZNAME:EST
DTSTART:20251102T060000
END:STANDARD
BEGIN:DAYLIGHT
TZOFFSETFROM:-0500
TZOFFSETTO:-0400
TZNAME:EDT
DTSTART:20260308T070000
END:DAYLIGHT
BEGIN:STANDARD
TZOFFSETFROM:-0400
TZOFFSETTO:-0500
TZNAME:EST
DTSTART:20261101T060000
END:STANDARD
END:VTIMEZONE
BEGIN:VEVENT
DTSTART;TZID=America/Toronto:20250521T160000
DTEND;TZID=America/Toronto:20250521T170000
DTSTAMP:20260421T023112
CREATED:20250428T152621Z
LAST-MODIFIED:20250501T175332Z
UID:461-1747843200-1747846800@events.evyapar.ca
SUMMARY:Digital LEGO Building for Kids
DESCRIPTION:For the LEGO Maniac in all of us\, the Brinklinks Studio App allows users to design their own custom LEGO sets in a digital 3D environment. This introductory program will show how participants how the basic tools and layout work so they can let their imagination run wild brick by brick. \nToronto Public Library is committed to accessibility. Please call or email us if you are Deaf or have a disability and would like to request accommodation to participate in this program. Please let us know as far in advance as possible and we will do our best to meet your request. At least three weeks’ notice is preferred. Phone 416-393-7099 or email accessibleservices@tpl.ca.
URL:https://events.evyapar.ca/event/digital-lego-building-for-kid/
LOCATION:Toronto Public Library – College/Shaw Branch\, 766 College Street\, Toronto\, ON\, M6G 1C4\, Canada
CATEGORIES:Education
END:VEVENT
END:VCALENDAR