BEGIN:VCALENDAR
VERSION:2.0
PRODID:-//eEvents - A Part Of eVyapar - ECPv6.15.18//NONSGML v1.0//EN
CALSCALE:GREGORIAN
METHOD:PUBLISH
X-WR-CALNAME:eEvents - A Part Of eVyapar
X-ORIGINAL-URL:https://events.evyapar.ca
X-WR-CALDESC:Events for eEvents - A Part Of eVyapar
REFRESH-INTERVAL;VALUE=DURATION:PT1H
X-Robots-Tag:noindex
X-PUBLISHED-TTL:PT1H
BEGIN:VTIMEZONE
TZID:America/Toronto
BEGIN:DAYLIGHT
TZOFFSETFROM:-0500
TZOFFSETTO:-0400
TZNAME:EDT
DTSTART:20240310T070000
END:DAYLIGHT
BEGIN:STANDARD
TZOFFSETFROM:-0400
TZOFFSETTO:-0500
TZNAME:EST
DTSTART:20241103T060000
END:STANDARD
BEGIN:DAYLIGHT
TZOFFSETFROM:-0500
TZOFFSETTO:-0400
TZNAME:EDT
DTSTART:20250309T070000
END:DAYLIGHT
BEGIN:STANDARD
TZOFFSETFROM:-0400
TZOFFSETTO:-0500
TZNAME:EST
DTSTART:20251102T060000
END:STANDARD
BEGIN:DAYLIGHT
TZOFFSETFROM:-0500
TZOFFSETTO:-0400
TZNAME:EDT
DTSTART:20260308T070000
END:DAYLIGHT
BEGIN:STANDARD
TZOFFSETFROM:-0400
TZOFFSETTO:-0500
TZNAME:EST
DTSTART:20261101T060000
END:STANDARD
END:VTIMEZONE
BEGIN:VEVENT
DTSTART;TZID=America/Toronto:20250426T123000
DTEND;TZID=America/Toronto:20250426T133000
DTSTAMP:20260420T031023
CREATED:20250423T152953Z
LAST-MODIFIED:20250428T154410Z
UID:382-1745670600-1745674200@events.evyapar.ca
SUMMARY:i-Maths Pre-Abacus Workshop (4-7 years old)
DESCRIPTION:i-Maths Pre Abacus Workshop \nHelp your child build a strong foundation in math with our i-Maths Workshop! Designed for ages 4–7\, this interactive session brings fundamental math concepts to life through hands-on activities and engaging games. We’ll spark curiosity and excitement around numbers\, shapes\, and patterns—all while boosting confidence in their early learning journey. \nWhat Kids Will Learn\n\nBasic Operations & Counting: Fun\, interactive exercises that reinforce essential math skills.\nShapes & Patterns: Creative tasks that help children recognize and categorize shapes\, sequences\, and patterns.\nProblem-Solving & Teamwork: Group activities to develop logical thinking and social skills.\nEveryday Math Concepts: Real-world applications that show kids how math is part of daily life.\n\nWhy Attend?\n\nBoost Early Math Skills: Lay the groundwork for future academic success.\nInteractive & Engaging: Turn math learning into a fun adventure kids will love.\nEncourage Creativity: Encourage kids to explore\, experiment\, and enjoy the learning process.\nBuild Confidence: Watch your child gain self-assurance in tackling new challenges.\n\nSpaces are limited\, so secure your child’s spot early. Come join us for a delightful session that makes math fun and approachable for young learners! \nNote: This event is only open to those living in Brampton and Mississauga near our 2 locations: 19 Sidford Drive (Mount Pleasant Go) and 8325 Financial Drive \nWe look forward to seeing your little mathematicians thrive!
URL:https://events.evyapar.ca/event/i-maths-pre-abacus-workshop-4-7-years-old-20250426/
LOCATION:050 Sandalwood Parkway West Brampton\, ON L7A 0K9
CATEGORIES:Education
END:VEVENT
END:VCALENDAR