BEGIN:VCALENDAR
VERSION:2.0
PRODID:-//eEvents - A Part Of eVyapar - ECPv6.15.18//NONSGML v1.0//EN
CALSCALE:GREGORIAN
METHOD:PUBLISH
X-WR-CALNAME:eEvents - A Part Of eVyapar
X-ORIGINAL-URL:https://events.evyapar.ca
X-WR-CALDESC:Events for eEvents - A Part Of eVyapar
REFRESH-INTERVAL;VALUE=DURATION:PT1H
X-Robots-Tag:noindex
X-PUBLISHED-TTL:PT1H
BEGIN:VTIMEZONE
TZID:America/Toronto
BEGIN:DAYLIGHT
TZOFFSETFROM:-0500
TZOFFSETTO:-0400
TZNAME:EDT
DTSTART:20240310T070000
END:DAYLIGHT
BEGIN:STANDARD
TZOFFSETFROM:-0400
TZOFFSETTO:-0500
TZNAME:EST
DTSTART:20241103T060000
END:STANDARD
BEGIN:DAYLIGHT
TZOFFSETFROM:-0500
TZOFFSETTO:-0400
TZNAME:EDT
DTSTART:20250309T070000
END:DAYLIGHT
BEGIN:STANDARD
TZOFFSETFROM:-0400
TZOFFSETTO:-0500
TZNAME:EST
DTSTART:20251102T060000
END:STANDARD
BEGIN:DAYLIGHT
TZOFFSETFROM:-0500
TZOFFSETTO:-0400
TZNAME:EDT
DTSTART:20260308T070000
END:DAYLIGHT
BEGIN:STANDARD
TZOFFSETFROM:-0400
TZOFFSETTO:-0500
TZNAME:EST
DTSTART:20261101T060000
END:STANDARD
BEGIN:DAYLIGHT
TZOFFSETFROM:-0500
TZOFFSETTO:-0400
TZNAME:EDT
DTSTART:20270314T070000
END:DAYLIGHT
BEGIN:STANDARD
TZOFFSETFROM:-0400
TZOFFSETTO:-0500
TZNAME:EST
DTSTART:20271107T060000
END:STANDARD
END:VTIMEZONE
BEGIN:VEVENT
DTSTART;TZID=America/Toronto:20251122T103000
DTEND;TZID=America/Toronto:20251123T153000
DTSTAMP:20260419T180428
CREATED:20250426T165441Z
LAST-MODIFIED:20250903T171030Z
UID:440-1763807400-1763911800@events.evyapar.ca
SUMMARY:Brampton Holiday Book Fair & Market-Full Weekend-Meet Santa & Shop Local! Courtyard by Marriott
DESCRIPTION:Brampton Book Fair and Market! Courtyard by Marriott \n\n📚🎉 Join Us at the Brampton Book Fair and Market! 🎉📚 \nDiscover Canadian authors\, talented crafters\, unique makers\, and delicious treats!\nTackle your Christmas shopping while supporting local businesses at our Christmas Book Fair and Market!\nSaturday & SundayWhere: Courtyard by Marriot – 90 Biscayne Cres.Time: 10: 30 – 3: 30 pm\n– Meet and Greet with Santa (Take a few photos while you are at it)– Shop local Authors– Discover local Crafters and Makers– Play along with our Scavanger hunt for a chance at a Grand Prize!– Door prizes pulled throughout the day– Craft table for kids!– The bar is open. Enjoy a drink while you shop.
URL:https://events.evyapar.ca/event/brampton-book-fair-and-market-courtyard-by-marriott/
LOCATION:Courtyard by Marriott\, Brampton\, 90 Biscayne Cres\, Brampton\, ON\, L6w\, Canada
CATEGORIES:Education
ATTACH;FMTTYPE=image/jpeg:https://events.evyapar.ca/wp-content/uploads/2025/04/20251122-23_Weekend-Holiday-Book-Fair-Market.jpg
ORGANIZER;CN="Ontario Book Fair & Markets":MAILTO:bookfair.ontario@gmail.com
END:VEVENT
BEGIN:VEVENT
DTSTART;TZID=America/Toronto:20251129T190000
DTEND;TZID=America/Toronto:20251129T210000
DTSTAMP:20260419T180428
CREATED:20250426T172342Z
LAST-MODIFIED:20250903T154546Z
UID:446-1764442800-1764450000@events.evyapar.ca
SUMMARY:Part Time Business Opportunity and Financial Education Seminar
DESCRIPTION:Part Time Business Opportunity and Financial Education Seminar \n\nReady to own your future? Leveraging our turnkey business platform\, you can build your own financial services business on your terms. \nAbout this Event \n1. Your Personal Challenges \nDo you have too much debt? \nLack of savings for retirement? \nNot having enough protection? \nConcerned about your Job or career? \n2. Family And Career Challenges \nNot enough saving for children’s college? \nAging parents with no retirement plan? \nUncertain about family’s future? \nConcerned about the future of everything? \n3. Solutions To Your Challenges \nLearn to pay off debt and save for college? \nLearn about various retirement options? \nLearn how to build and protect wealth? \nExplore a new part/full-time business opportunity? \nReady to own your future? Leveraging our turnkey business platform\, you can build your own financial services business on your terms. Start full-time or part-time to earn extra income at your leisure. This business opportunity is about helping protect people in your community while having the flexibility to grow your business as large as you desire. \n 
URL:https://events.evyapar.ca/event/part-time-business-opportunity-and-financial-education-seminar/
LOCATION:Markham\, 7100 Woodbine Avenue\, Markham\, ON\, Canada
CATEGORIES:Business,Education
ATTACH;FMTTYPE=image/jpeg:https://events.evyapar.ca/wp-content/uploads/2025/04/20250917-Part-Time-Business-Opportunity-and-Financial-Education-Seminar.jpg
END:VEVENT
BEGIN:VEVENT
DTSTART;TZID=America/Toronto:20251201T080000
DTEND;TZID=America/Toronto:20251201T170000
DTSTAMP:20260419T180428
CREATED:20250502T181201Z
LAST-MODIFIED:20250903T152853Z
UID:557-1764576000-1764608400@events.evyapar.ca
SUMMARY:Children’s Graphic Novel Club [JAN Candle Point]-Monthly
DESCRIPTION:Join Bloor/Gladstone’s book club and talk about your favourite stories with other avid readers! Parents are welcome to join as well! Grab a copy of the monthly title at the Bloor Gladstone library if you need a copy! \nThis book club is meant for kids ages 8 and up. No registration is required\, feel free to drop in! \nThis book club is meant to give kids a space to talk about the books they have read. The book discussion is typically followed up with an activity or craft. This is NOT a reading buddy program where kids will read to each other. \nJan 6 – Candle Point by Nancy Deas \nFeb 3 \nMar 3 \nApril 7 \nMay 5 \nJune 2 \nJuly 7 \nAug 11 \nSept 8 \nOct 6 \nNov 3 \nDec 1 \nToronto Public Library is committed to accessibility. Please call or email us if you are Deaf or have a disability and would like to request accommodation to participate in this program. Please let us know as far in advance as possible and we will do our best to meet your request. At least three weeks’ notice is preferred. Phone 416-393-7099 or email accessibleservices@tpl.ca. \n\n\n\n\n\n\n\n\n\n\n\n\n\n\n\nNOTE: ONCE IN A MONTH \, 1st MODAY OF EACH MONTH\, FROM 3 FEB.
URL:https://events.evyapar.ca/event/childrens-graphic-novel-club-jan-candle-point-monthly/
CATEGORIES:Education,Featured
END:VEVENT
BEGIN:VEVENT
DTSTART;TZID=America/Toronto:20251202T130000
DTEND;TZID=America/Toronto:20251202T160000
DTSTAMP:20260419T180428
CREATED:20250423T163158Z
LAST-MODIFIED:20251031T161116Z
UID:400-1764680400-1764691200@events.evyapar.ca
SUMMARY:1-on-1 Career Consultations with ACCESS Employment (Monthly)
DESCRIPTION:1:00 p.m. – 4:00 p.m. on recurring dates listed below\n180 mins \n\n\nLocation\nNorth York Central Library \n\n\nAre you feeling stuck in your job search? Explore the incredible resources and expertise offered by ACCES Employment. Connect with an Employment Consultant to get tailored resume reviews\, invaluable interview tips\, and a wealth of additional support. Book a free 30-minute appointment and embark on a remarkable journey toward your dream job. \nBook an appointment with an ACCES Employment consultant below:\n(appointments are available to book 3 weeks in advance)\nBook Appointment – Consultant 1\nBook Appointment – Consultant 2 \nConsultations will take place in the Business\, Science and Technology Department (4th Floor). For questions\, email clbst@tpl.ca or call the North York Central Library\, Business\, Science and Technology Department at 416-395-5613. \n\n\nAudiences\nAdult \nCategories\nCareer & Job Search Help \n\nUpcoming Dates:\nTue. Nov. 04\nTue. Dec. 02\nTue. Jan. 06\nTue. Feb. 03
URL:https://events.evyapar.ca/event/3d-design-and-printing-for-kids-part-2-3d-print-painting-9/
LOCATION:Toronto Public Library – College/Shaw Branch\, 766 College Street\, Toronto\, ON\, M6G 1C4\, Canada
CATEGORIES:Education
ATTACH;FMTTYPE=image/jpeg:https://events.evyapar.ca/wp-content/uploads/2025/04/20250618-Womens-Entrepreneurship-Forum-2025-Technology-Talent-Transformation-JPEG.jpeg
END:VEVENT
BEGIN:VEVENT
DTSTART;TZID=America/Toronto:20251205T140000
DTEND;TZID=America/Toronto:20251205T153000
DTSTAMP:20260419T180428
CREATED:20250530T160314Z
LAST-MODIFIED:20250903T155449Z
UID:731-1764943200-1764948600@events.evyapar.ca
SUMMARY:Market Research for Small Business
DESCRIPTION:Event Description \nLearn how to do market research for your business plan using the various databases available to you\, for free\, with your Toronto Public Library card. \nTopics covered include competitor research\, industry reports\, industry trends\, and customer demographics. \nAccessibility\nToronto Public Library is committed to providing accessible and inclusive programming. \nIf you identify as a person with a disability or a person who is Deaf\, and require this information in an accessible format\, or an accessibility accommodation to participate in our programs. \nPlease contact us at least seven (7) days in advance. \nWays to contact: \nEmail: trlbus@tpl.ca\nPhone: 416-395-7149\nOnline: tpl.ca/accessibility
URL:https://events.evyapar.ca/event/market-research-for-small-business/
LOCATION:Toronto Reference Library – Learning Centre 1\, 789 Yonge Street\, Toronto\, ON\, M4W 2G8\, Canada
CATEGORIES:Business
ATTACH;FMTTYPE=image/jpeg:https://events.evyapar.ca/wp-content/uploads/2025/05/20250612-Market-Research-for-Small-Business-JPEG.jpeg
END:VEVENT
BEGIN:VEVENT
DTSTART;TZID=America/Toronto:20260407T190000
DTEND;TZID=America/Toronto:20260407T200000
DTSTAMP:20260419T180428
CREATED:20250501T235010Z
LAST-MODIFIED:20260328T172922Z
UID:535-1775588400-1775592000@events.evyapar.ca
SUMMARY:Sahaja Yoga Meditation Classes -Free (Weekly)
DESCRIPTION:NOTE: EACH TUESDAY FROM 4th MAY\, 2025 AT SAME LOCATION
URL:https://events.evyapar.ca/event/sahaja-yoga-meditation-classes-free-weekly/
LOCATION:9201 Islington Avenue Vaughan\, ON L4L 1A7\, 9201 Islington Avenue\, Vaughan\, ON\, L4L 1A7\, Canada
CATEGORIES:Education
ATTACH;FMTTYPE=image/jpeg:https://events.evyapar.ca/wp-content/uploads/2025/05/20250729-Sahaja-Yoga-Meditation-Classes-Free-Weekly-JPEG.jpeg
END:VEVENT
BEGIN:VEVENT
DTSTART;TZID=America/Toronto:20260423T190000
DTEND;TZID=America/Toronto:20260423T210000
DTSTAMP:20260419T180428
CREATED:20250703T174054Z
LAST-MODIFIED:20260328T155742Z
UID:794-1776970800-1776978000@events.evyapar.ca
SUMMARY:Improve your public speaking with Toastmasters (Weekly)
DESCRIPTION:Toastmasters provides a safe\, supportive and relaxed environment to help you improve your public speaking and communication skills. It’s one of the most effective programs to do this. \nEach weekly Toastmasters meeting gives you opportunities to improve. You can \n• give prepared speeches — 5 minutes\, 10 minutes or 20 minutes\n• take on meeting roles\n• receive feedback — and give it too!\n• practice impromptu speaking \nYou also join a supportive group of professionals who are public speakers. \n. \nInterested in Toastmasters and how it can improve your public speaking? \nBook a free ticket and attend our next online meeting as a guest \nLearn about the Weston-Mount Dennis Toastmasters Club: weston.toastmastersclubs.org \nNOTE: MEETUP ON EACH Thursday\, 7:00 PM \n 
URL:https://events.evyapar.ca/event/improve-your-public-speaking-with-toastmasters-weekly/
LOCATION:Toast Master-Toronto\, 34 John Street\, Toronto\, ON\, M9N 0B2\, Canada
ATTACH;FMTTYPE=image/jpeg:https://events.evyapar.ca/wp-content/uploads/2025/07/20250731_Improve-your-public-speaking-with-Toastmasters-Weekly-JPEG.jpeg
END:VEVENT
BEGIN:VEVENT
DTSTART;TZID=America/Toronto:20260502T170000
DTEND;TZID=America/Toronto:20260502T210000
DTSTAMP:20260419T180428
CREATED:20260321T181442Z
LAST-MODIFIED:20260329T184643Z
UID:1000-1777741200-1777755600@events.evyapar.ca
SUMMARY:રમુજ ના રાજા - અજીત પટેલ
DESCRIPTION:-: *Please support* :-\n*🙏🏼We ask for the Sponsorship for*\n*100% donation 💊🩺🐄 purposes entertainment🤣program*\n*******^******^******\n*Well wishers are also Welcome to donate*\n*******^******^****** \nદર વરસે એક ફુલ કોમેડી શો કરીને હું તેનો બધો જ નફો જરૂરિયાતમંદ લોકોને અને બધા પશુ-પક્ષીઓની સેવા માટે સમર્પિત કરી દઉં છું તો એવા સેવા દાનમાં સહયોગી બનવા વિનંતી.\nGive your business card adv. in this flyer\, which is goes in two Gujarati newspapers\n 
URL:https://events.evyapar.ca/event/ramuj-na-raja-ajit-patel/
LOCATION:Shringeri Hindu Temple\, 80 Brydon Drive\, Etobicoke.\, 80 Brydon Drive\,\, Etobicoke\, Canada
CATEGORIES:Entertainment
ATTACH;FMTTYPE=image/jpeg:https://events.evyapar.ca/wp-content/uploads/2026/03/260502_RamujNaRaja-Ajitbhai-FeatImg.jpg
END:VEVENT
BEGIN:VEVENT
DTSTART;TZID=America/Toronto:20260624T110000
DTEND;TZID=America/Toronto:20260624T150000
DTSTAMP:20260419T180428
CREATED:20250417T171510Z
LAST-MODIFIED:20260330T221332Z
UID:246-1782298800-1782313200@events.evyapar.ca
SUMMARY:Hire Canada Job Fair & Training Expo
DESCRIPTION:Job Fair\n\n\n\n\n\n\nBy Hire Canada\n\n\n\n\n\n\n\n\n\nLooking for a job or career boost? Join us for the Winter 2025 Hire Canada Virtual Job Fair and Training Expo! www.hirecanada.ca \n\n\n\n\n\n\n\n\nDate and time\n\n\n\nDate: Wednesday\, June 24\, 2026\nTime: 11 AM – 3 PM EST \n\n\n\n\n\n\n\n\n\n\n\n\n\nLocation\n\n\nHoliday INN\, Toronto Airport (E). 600 Dixon Rd.\, Toronto \n\n\n\n\n\n\n\n\n\n\n\nGood to know\n\n\n\n\nHighlights \n\n\n4 hours\nVenue: Holiday INN\, Toronto Airport (E). 600 Dixon Rd.\, Toronto\n\n\n\n\n\n\n\n\n\n\n\n\n\n\nAbout this event\n\nBusiness\n\n\n\n\n\nDon’t miss the Hire Canada Virtual Job Fair & Training Expo on Wednesday\, June 24\, 2026 from 11am – 3pm (EST). Connect with top employers\, explore career opportunities\, and learn about valuable training programs all from your computer! To register and setup your online profile visit www.hirecanada.ca/applicants
URL:https://events.evyapar.ca/event/hire-canada-job-fair-training-expo/
LOCATION:Holiday Inn Toronto Airport East  600 Dixon Road Toronto\, ON M9W 1J1\, Holiday Inn Airport East 600 Dixon Road Toronto\, Toronto\, ON\, M9W 1J1\, Canada
CATEGORIES:Business,Education
ATTACH;FMTTYPE=image/jpeg:https://events.evyapar.ca/wp-content/uploads/2025/04/20260624_HireCanada-JobFair.jpg
ORGANIZER;CN="Hire Canada":MAILTO:info@hirecanada.ca
END:VEVENT
BEGIN:VEVENT
DTSTART;VALUE=DATE:20260914
DTEND;VALUE=DATE:20260921
DTSTAMP:20260419T180428
CREATED:20260218T193638Z
LAST-MODIFIED:20260218T194212Z
UID:995-1789344000-1789948799@events.evyapar.ca
SUMMARY:Canada Cha Raja (4th Annual Ganesh Mahotsav-Brampton)
DESCRIPTION:🚨 CANADA CHA RAJA 2026 🚨 \nThe 4th Annual Ganesh Mahotsav returns bigger than ever. 🇨🇦 \nVendor registrations are moving quickly and booths are limited. \n📍 Brampton\n🗓 Sept 14 – Sept 20 \nJoin the celebration.\nSecure your booth before registrations close. \nReply now to confirm.
URL:https://events.evyapar.ca/event/canada-cha-raja-4th-annual-ganesh-mahotsav-brampton/
CATEGORIES:Entertainment,Featured,Kids,Men,Women,Youth
ATTACH;FMTTYPE=image/jpeg:https://events.evyapar.ca/wp-content/uploads/2026/02/20260920_Canada-Cha-Raja-Featured-Image.jpg
END:VEVENT
END:VCALENDAR