BEGIN:VCALENDAR
VERSION:2.0
PRODID:-//eEvents - A Part Of eVyapar - ECPv6.15.18//NONSGML v1.0//EN
CALSCALE:GREGORIAN
METHOD:PUBLISH
X-ORIGINAL-URL:https://events.evyapar.ca
X-WR-CALDESC:Events for eEvents - A Part Of eVyapar
REFRESH-INTERVAL;VALUE=DURATION:PT1H
X-Robots-Tag:noindex
X-PUBLISHED-TTL:PT1H
BEGIN:VTIMEZONE
TZID:America/Toronto
BEGIN:DAYLIGHT
TZOFFSETFROM:-0500
TZOFFSETTO:-0400
TZNAME:EDT
DTSTART:20240310T070000
END:DAYLIGHT
BEGIN:STANDARD
TZOFFSETFROM:-0400
TZOFFSETTO:-0500
TZNAME:EST
DTSTART:20241103T060000
END:STANDARD
BEGIN:DAYLIGHT
TZOFFSETFROM:-0500
TZOFFSETTO:-0400
TZNAME:EDT
DTSTART:20250309T070000
END:DAYLIGHT
BEGIN:STANDARD
TZOFFSETFROM:-0400
TZOFFSETTO:-0500
TZNAME:EST
DTSTART:20251102T060000
END:STANDARD
BEGIN:DAYLIGHT
TZOFFSETFROM:-0500
TZOFFSETTO:-0400
TZNAME:EDT
DTSTART:20260308T070000
END:DAYLIGHT
BEGIN:STANDARD
TZOFFSETFROM:-0400
TZOFFSETTO:-0500
TZNAME:EST
DTSTART:20261101T060000
END:STANDARD
END:VTIMEZONE
BEGIN:VEVENT
DTSTART;TZID=America/Toronto:20250517T100000
DTEND;TZID=America/Toronto:20250517T173000
DTSTAMP:20260419T092100
CREATED:20250505T221723Z
LAST-MODIFIED:20250505T223121Z
UID:589-1747476000-1747503000@events.evyapar.ca
SUMMARY:In-person Free Robotics Workshop For Kids at Oakville\, ON (7-14yrs)
DESCRIPTION:Parents\, \nMoonpreneur extends a warm invitation to you and your child for our upcoming free in-person robotics workshop at Oakville\, ON on Saturday\, 17th May\, 11:00 AM EST. \nFollowing the tremendous success of our prior event and the overwhelming response from parents\, Moonpreneur is delighted to announce that we are once again hosting this workshop. Our aim is to introduce children aged 7-14 to the world of robotics in a hands-on\, engaging manner\, ensuring a fun filled educational experience. \nNote: Please bring a laptop for the workshop. \nAGENDA \nCHECK-IN AND GET READY FOR WORKSHOP (15 MINS) \nThe meetup starts with a warm welcome and check-in process\, followed by the assignment of a workshop room. \nFOR CHILDREN (1 hour\, 15 mins) \n\nWe’ll kick off by assigning your child a seat.\nThen 60-min session will start where your child will –\nintroduction to robotics and coding\nperform hands-on exercises on robotics\nexperience our teaching methodology\nparticipate in quizzes and fun activities\nMeet other like-minded students in the workshop\n\nFOR PARENTS (1 hour\, 15 mins) \nYou will get the opportunity to – \n\nExperience the moment as you meet our young students\nMeet the Moonpreneur team\nGain insights into Moopreneur’s offerings with a detailed overview of the program\nNetwork with other parents and enjoy snacks and refreshments.\n\nDate: 17th May\, Saturday. \nMultiple time slots are available as per age group: \nGroup 1 (7-8 Years) \n\nMeetup-2 – 12:45 PM (7-8 Years)\n\nGroup 2 (9-10 Years) \n\nMeetup-1 – 11:00 AM (9-10 Years)\nMeetup- 3 – 02:30 PM (9-10 Years)\n\nGroup 3 (11-12 Years) \n\nMeetup- 5 -04:15 PM (11-12 Years)\n\nGroup 4 (13-14 Years) \n\nMeetup- 4 – 04:15 PM (13-14 Years)\n\nWorkshop Duration: 1:15 Hrs \nClick here to read more about Moonpreneur’s in-person robotics workshop. \nFor further details feel free to call at +1 (855) 550-0571
URL:https://events.evyapar.ca/event/in-person-free-robotics-workshop-for-kids-at-oakville-on-7-14yrs/
LOCATION:Sheridan College\, 1430 Trafalgar Road\, Oakville\, ON\, L6H 2L1\, Canada
CATEGORIES:Education,Kids
END:VEVENT
END:VCALENDAR